BEGIN:VCALENDAR
VERSION:2.0
PRODID:-//mrlib.org//NONSGML kigkonsult.se iCalcreator 2.30.10//
CALSCALE:GREGORIAN
METHOD:PUBLISH
UID:213eb0b5-71f8-4db2-bee9-2b74a97f2506
X-WR-CALDESC:Ages 11-17 are invited to drop-in weekly for gaming with other
 s. Join us every Tuesday afternoon for a fun time!
X-WR-RELCALID:176a631e101b8a8691a1bd1909e71b2f
X-WR-TIMEZONE:America/New_York
BEGIN:VTIMEZONE
TZID:America/New_York
BEGIN:STANDARD
TZNAME:EST
DTSTART:20241103T020000
TZOFFSETFROM:-0400
TZOFFSETTO:-0500
RDATE:20251102T020000
END:STANDARD
BEGIN:DAYLIGHT
TZNAME:EDT
DTSTART:20250309T020000
TZOFFSETFROM:-0500
TZOFFSETTO:-0400
RDATE:20260308T020000
END:DAYLIGHT
END:VTIMEZONE
BEGIN:VEVENT
UID:dc414ad5-092f-4c33-b2cc-f2f7a13bdb2a
DTSTAMP:20260419T140655Z
DESCRIPTION:Ages 11-17 are invited to drop-in weekly for gaming with others
 . Join us every Tuesday afternoon for a fun time!
DTSTART;TZID=America/New_York:20250415T160000
DTEND;TZID=America/New_York:20250415T173000
LOCATION:Page Public Library\, 100 Zerkel Street\, Luray\, VA 22835 US
SUMMARY:Switch Open Gaming Time for Teens! @Page Public Library
END:VEVENT
END:VCALENDAR
