BEGIN:VCALENDAR
VERSION:2.0
PRODID:-//mrlib.org//NONSGML kigkonsult.se iCalcreator 2.30.10//
CALSCALE:GREGORIAN
METHOD:PUBLISH
UID:745b5a10-f8ee-4e28-aeae-df6ad63a774d
X-WR-CALDESC:Are you looking for a place to relax\, create\, and connect? J
 oin us for Creative Space every 2nd Monday of the month\, a casual meetup 
 for adults! Bring your current projects - knitting\, drawing\, writing\, s
 crapbooking\, and anything else - and spend time in the company of fellow 
 makers. Share ideas\, find inspiration\, and see what others are working o
 n in a welcoming\, no-pressure environment!
X-WR-RELCALID:3ac346e70dc77f88c512804d227836db
X-WR-TIMEZONE:America/New_York
BEGIN:VTIMEZONE
TZID:America/New_York
BEGIN:STANDARD
TZNAME:EST
DTSTART:20251102T020000
TZOFFSETFROM:-0400
TZOFFSETTO:-0500
RDATE:20261101T020000
END:STANDARD
BEGIN:DAYLIGHT
TZNAME:EDT
DTSTART:20260308T020000
TZOFFSETFROM:-0500
TZOFFSETTO:-0400
RDATE:20270314T020000
END:DAYLIGHT
END:VTIMEZONE
BEGIN:VEVENT
UID:7b726718-13e1-4468-8fa7-9074cb91c905
DTSTAMP:20260425T190457Z
DESCRIPTION:Are you looking for a place to relax\, create\, and connect? Jo
 in us for Creative Space every 2nd Monday of the month\, a casual meetup f
 or adults! Bring your current projects - knitting\, drawing\, writing\, sc
 rapbooking\, and anything else - and spend time in the company of fellow m
 akers. Share ideas\, find inspiration\, and see what others are working on
  in a welcoming\, no-pressure environment!
DTSTART;TZID=America/New_York:20260413T160000
DTEND;TZID=America/New_York:20260413T170000
LOCATION:Village Library\, 175 N. Main Street\, Broadway\, VA 22815 US
SUMMARY:Creative Space @Village Library
END:VEVENT
END:VCALENDAR
