BEGIN:VCALENDAR
VERSION:2.0
PRODID:-//mrlib.org//NONSGML kigkonsult.se iCalcreator 2.30.10//
CALSCALE:GREGORIAN
METHOD:PUBLISH
UID:101e67ea-5dc4-4bf5-bffc-9df8b7520678
X-WR-CALDESC:Got a random tech question that you've been itching to find an
  answer to? Join us for our 'Ask a Techie' program! Bring your questions\,
  share answers\, and learn more about technology!
X-WR-RELCALID:f0dd92388cb5b1c5cb85ddedd660a4f7
X-WR-TIMEZONE:America/New_York
BEGIN:VTIMEZONE
TZID:America/New_York
BEGIN:STANDARD
TZNAME:EST
DTSTART:20241103T020000
TZOFFSETFROM:-0400
TZOFFSETTO:-0500
RDATE:20251102T020000
RDATE:20261101T020000
END:STANDARD
BEGIN:DAYLIGHT
TZNAME:EDT
DTSTART:20250309T020000
TZOFFSETFROM:-0500
TZOFFSETTO:-0400
RDATE:20260308T020000
END:DAYLIGHT
END:VTIMEZONE
BEGIN:VEVENT
UID:0e8e639b-3417-4103-9049-3a63d22e5fd1
DTSTAMP:20260421T083209Z
DESCRIPTION:Got a random tech question that you've been itching to find an 
 answer to? Join us for our 'Ask a Techie' program! Bring your questions\, 
 share answers\, and learn more about technology!
DTSTART;TZID=America/New_York:20250812T150000
DTEND;TZID=America/New_York:20250812T160000
LOCATION:North River Library\, 118 Mt. Crawford Avenue\, Bridgewater\, VA 2
 2812 US
SUMMARY:Tech Talk: Ask a Techie @North River Library
END:VEVENT
END:VCALENDAR
