BEGIN:VCALENDAR
VERSION:2.0
PRODID:-//mrlib.org//NONSGML kigkonsult.se iCalcreator 2.30.10//
CALSCALE:GREGORIAN
METHOD:PUBLISH
UID:1b7665f4-807b-42ff-8c67-6a95c3de78c5
X-WR-CALDESC:People of all ages are invited to drop in to Page Public Libra
 ry every Tuesday for puzzle fun with other jigsaw junkies!
X-WR-RELCALID:88af8e465b40c5e6a51f0337fc2e8fe9
X-WR-TIMEZONE:America/New_York
BEGIN:VTIMEZONE
TZID:America/New_York
BEGIN:STANDARD
TZNAME:EST
DTSTART:20251102T020000
TZOFFSETFROM:-0400
TZOFFSETTO:-0500
RDATE:20261101T020000
END:STANDARD
BEGIN:DAYLIGHT
TZNAME:EDT
DTSTART:20260308T020000
TZOFFSETFROM:-0500
TZOFFSETTO:-0400
RDATE:20270314T020000
END:DAYLIGHT
END:VTIMEZONE
BEGIN:VEVENT
UID:d35e62e2-df02-43ba-bb44-b458a9f11baa
DTSTAMP:20260424T174646Z
DESCRIPTION:People of all ages are invited to drop in to Page Public Librar
 y every Tuesday for puzzle fun with other jigsaw junkies!
DTSTART;TZID=America/New_York:20260421T160000
DTEND;TZID=America/New_York:20260421T170000
LOCATION:Page Public Library\, 100 Zerkel Street\, Luray\, VA 22835 US
SUMMARY:Jigsaw Junkies @Page Public Library
END:VEVENT
END:VCALENDAR
