BEGIN:VCALENDAR
VERSION:2.0
PRODID:-//mrlib.org//NONSGML kigkonsult.se iCalcreator 2.30.10//
CALSCALE:GREGORIAN
METHOD:PUBLISH
UID:62041e2a-a1cc-4105-a0b0-0d83bd308100
X-WR-CALDESC:Let your creativity loose with craft projects using a variety 
 of materials! Crafty Kids is geared towards children from kindergarten thr
 ough 5th grade.
X-WR-RELCALID:c36c2ca347c263d2665394e7b99ff3c9
X-WR-TIMEZONE:America/New_York
BEGIN:VTIMEZONE
TZID:America/New_York
BEGIN:STANDARD
TZNAME:EST
DTSTART:20241103T020000
TZOFFSETFROM:-0400
TZOFFSETTO:-0500
RDATE:20251102T020000
END:STANDARD
BEGIN:DAYLIGHT
TZNAME:EDT
DTSTART:20240310T020000
TZOFFSETFROM:-0500
TZOFFSETTO:-0400
RDATE:20250309T020000
RDATE:20260308T020000
END:DAYLIGHT
END:VTIMEZONE
BEGIN:VEVENT
UID:49f6f25d-9a2f-4e30-905f-e75f82bcc502
DTSTAMP:20260423T060719Z
DESCRIPTION:Let your creativity loose with craft projects using a variety o
 f materials! Crafty Kids is geared towards children from kindergarten thro
 ugh 5th grade.
DTSTART;TZID=America/New_York:20241107T160000
DTEND;TZID=America/New_York:20241107T170000
LOCATION:Central Library\, 174 S. Main St.\, Harrisonburg\, VA 22801 US
SUMMARY:Crafty Kids @ Central Library
END:VEVENT
END:VCALENDAR
