BEGIN:VCALENDAR
VERSION:2.0
PRODID:-//mrlib.org//NONSGML kigkonsult.se iCalcreator 2.30.10//
CALSCALE:GREGORIAN
METHOD:PUBLISH
UID:27eb20b0-71fd-46c9-a364-a7fd56af09ef
X-WR-CALDESC:*DUE TO THE THANKSGIVING HOLIDAY\, D2R2 AT ELKTON COMMUNITY LI
 BRARY WAS MOVED FROM NOV. 27TH TO NOV. 20TH* \n\nDogs are wonderful listen
 ers and love to hear stories being told to them! Dogs 2 Read 2 is a great 
 chance for kids in grades K-5 to practice their reading skills with Timber
 \, Zion\, or Aspen\, wonderful and well-behaved certified therapy pups.
X-WR-RELCALID:b90bd4934ac6247c8a3457bc7d71acec
X-WR-TIMEZONE:America/New_York
BEGIN:VTIMEZONE
TZID:America/New_York
BEGIN:STANDARD
TZNAME:EST
DTSTART:20241103T020000
TZOFFSETFROM:-0400
TZOFFSETTO:-0500
RDATE:20251102T020000
END:STANDARD
BEGIN:DAYLIGHT
TZNAME:EDT
DTSTART:20240310T020000
TZOFFSETFROM:-0500
TZOFFSETTO:-0400
RDATE:20250309T020000
RDATE:20260308T020000
END:DAYLIGHT
END:VTIMEZONE
BEGIN:VEVENT
UID:af464151-d623-4ab3-9b72-054d1a53d606
DTSTAMP:20260420T100247Z
DESCRIPTION:*DUE TO THE THANKSGIVING HOLIDAY\, D2R2 AT ELKTON COMMUNITY LIB
 RARY WAS MOVED FROM NOV. 27TH TO NOV. 20TH* \n\nDogs are wonderful listene
 rs and love to hear stories being told to them! Dogs 2 Read 2 is a great c
 hance for kids in grades K-5 to practice their reading skills with Timber\
 , Zion\, or Aspen\, wonderful and well-behaved certified therapy pups.
DTSTART;TZID=America/New_York:20241120T160000
DTEND;TZID=America/New_York:20241120T170000
LOCATION:Elkton Community Library\, 106 N. Terrace Avenue\, Elkton\, VA 228
 27 US
SUMMARY:Dogs 2 Read 2 @Elkton Community Library
END:VEVENT
END:VCALENDAR
