BEGIN:VCALENDAR
VERSION:2.0
PRODID:-//mrlib.org//NONSGML kigkonsult.se iCalcreator 2.30.10//
CALSCALE:GREGORIAN
METHOD:PUBLISH
UID:9da33d13-fa44-499c-a145-90fdc0a658a6
X-WR-CALDESC:Let your creativity loose with craft projects using a variety 
 of materials! Crafty Kids is geared towards kindergarten through 5th grade
  youth.
X-WR-RELCALID:b46f7904c809220f47b5a8095fb85b03
X-WR-TIMEZONE:America/New_York
BEGIN:VTIMEZONE
TZID:America/New_York
BEGIN:STANDARD
TZNAME:EST
DTSTART:20241103T020000
TZOFFSETFROM:-0400
TZOFFSETTO:-0500
RDATE:20251102T020000
END:STANDARD
BEGIN:DAYLIGHT
TZNAME:EDT
DTSTART:20240310T020000
TZOFFSETFROM:-0500
TZOFFSETTO:-0400
RDATE:20250309T020000
RDATE:20260308T020000
END:DAYLIGHT
END:VTIMEZONE
BEGIN:VEVENT
UID:5cfa834a-158c-474a-8607-1ef5ddcc3616
DTSTAMP:20260420T010758Z
DESCRIPTION:Let your creativity loose with craft projects using a variety o
 f materials! Crafty Kids is geared towards kindergarten through 5th grade 
 youth.
DTSTART;TZID=America/New_York:20241121T160000
DTEND;TZID=America/New_York:20241121T170000
LOCATION:100 Zerkel Street\, Luray\, VA 22835 US
SUMMARY:Crafty Kids @ Page Public Library
END:VEVENT
END:VCALENDAR
