BEGIN:VCALENDAR
VERSION:2.0
PRODID:-//mrlib.org//NONSGML kigkonsult.se iCalcreator 2.30.10//
CALSCALE:GREGORIAN
METHOD:PUBLISH
UID:7a60f0b6-df60-4f18-b811-dd1628927166
X-WR-CALDESC:All Branches Closed in observance of Thanksgiving
X-WR-RELCALID:e9054ae47e093bc2ec6bc24786f98e19
X-WR-TIMEZONE:America/New_York
BEGIN:VTIMEZONE
TZID:America/New_York
BEGIN:STANDARD
TZNAME:EST
DTSTART:20241103T020000
TZOFFSETFROM:-0400
TZOFFSETTO:-0500
RDATE:20251102T020000
END:STANDARD
BEGIN:DAYLIGHT
TZNAME:EDT
DTSTART:20240310T020000
TZOFFSETFROM:-0500
TZOFFSETTO:-0400
RDATE:20250309T020000
RDATE:20260308T020000
END:DAYLIGHT
END:VTIMEZONE
BEGIN:VEVENT
UID:f89720e4-b24f-414e-b065-86284db0078a
DTSTAMP:20260422T001258Z
DESCRIPTION:All Branches Closed in observance of Thanksgiving
DTSTART;TZID=America/New_York:20241128T060000
DTEND;TZID=America/New_York:20241129T060001
LOCATION:
SUMMARY:CLOSED
END:VEVENT
END:VCALENDAR
