BEGIN:VCALENDAR
VERSION:2.0
PRODID:-//mrlib.org//NONSGML kigkonsult.se iCalcreator 2.30.10//
CALSCALE:GREGORIAN
METHOD:PUBLISH
UID:62805d52-dcb6-4014-ab08-4938862f7fe9
X-WR-CALDESC:All 7 MRL branches are closed due to inclement weather.
X-WR-RELCALID:45cbe764e66fbe19e83f87882c73e30c
X-WR-TIMEZONE:America/New_York
BEGIN:VTIMEZONE
TZID:America/New_York
BEGIN:STANDARD
TZNAME:EST
DTSTART:20241103T020000
TZOFFSETFROM:-0400
TZOFFSETTO:-0500
RDATE:20251102T020000
END:STANDARD
BEGIN:DAYLIGHT
TZNAME:EDT
DTSTART:20240310T020000
TZOFFSETFROM:-0500
TZOFFSETTO:-0400
RDATE:20250309T020000
RDATE:20260308T020000
END:DAYLIGHT
END:VTIMEZONE
BEGIN:VEVENT
UID:999b0684-b76a-4186-9d51-71facfed3619
DTSTAMP:20260420T235154Z
DESCRIPTION:All 7 MRL branches are closed due to inclement weather.
DTSTART;TZID=America/New_York:20250107T060000
DTEND;TZID=America/New_York:20250107T060001
LOCATION:
SUMMARY:ALL BRANCHES CLOSED DUE TO INCLEMENT WEATHER
END:VEVENT
END:VCALENDAR
