BEGIN:VCALENDAR
VERSION:2.0
PRODID:-//mrlib.org//NONSGML kigkonsult.se iCalcreator 2.30.10//
CALSCALE:GREGORIAN
METHOD:PUBLISH
UID:8bec8f11-066d-49d6-b542-4bc2eeb63e4a
X-WR-CALDESC:A lively story time for children birth to 5 years filled with 
 stories\, songs\, and activities to help your child grow. We will actively
  use our eyes\, ears\, mouth\, hands\, and sometimes our whole bodies to p
 articipate in this fun story time!
X-WR-RELCALID:15d034358c2fb895fa451ae5be5f1d12
X-WR-TIMEZONE:America/New_York
BEGIN:VTIMEZONE
TZID:America/New_York
BEGIN:STANDARD
TZNAME:EST
DTSTART:20241103T020000
TZOFFSETFROM:-0400
TZOFFSETTO:-0500
RDATE:20251102T020000
END:STANDARD
BEGIN:DAYLIGHT
TZNAME:EDT
DTSTART:20240310T020000
TZOFFSETFROM:-0500
TZOFFSETTO:-0400
RDATE:20250309T020000
RDATE:20260308T020000
END:DAYLIGHT
END:VTIMEZONE
BEGIN:VEVENT
UID:d0db35e6-de86-4b7e-8268-67486b15429e
DTSTAMP:20260419T235339Z
DESCRIPTION:A lively story time for children birth to 5 years filled with s
 tories\, songs\, and activities to help your child grow. We will actively 
 use our eyes\, ears\, mouth\, hands\, and sometimes our whole bodies to pa
 rticipate in this fun story time!
DTSTART;TZID=America/New_York:20250113T093000
DTEND;TZID=America/New_York:20250113T100000
LOCATION:Central Library\, 174 S. Main St.\, Harrisonburg\, VA 22801 US
SUMMARY:Stories\, Rhymes\, & Movement @ Central Library
END:VEVENT
END:VCALENDAR
