BEGIN:VCALENDAR
VERSION:2.0
PRODID:-//mrlib.org//NONSGML kigkonsult.se iCalcreator 2.30.10//
CALSCALE:GREGORIAN
METHOD:PUBLISH
UID:cd95f4f7-6c03-498a-aab0-93fed4047d7a
X-WR-CALDESC:Love cats and books? We have the book club for you! Join us at
  the Aristocat Café on the third Friday of each month from 10:00am-11:00am
 . This month's book is 'Legends & Lattes\,' by Travis Baldree. Enjoy some 
 tea\, discuss the book\, and play with some cats. \n\nDiscussion will take
  place in the cat room so cats will be nearby. Tea provided by the library
 . Limited number of spots available\; register at the link provided to ens
 ure a spot.
X-WR-RELCALID:81c6a61ceb2eb7f948902b93a1019c65
X-WR-TIMEZONE:America/New_York
BEGIN:VTIMEZONE
TZID:America/New_York
BEGIN:STANDARD
TZNAME:EST
DTSTART:20241103T020000
TZOFFSETFROM:-0400
TZOFFSETTO:-0500
RDATE:20251102T020000
END:STANDARD
BEGIN:DAYLIGHT
TZNAME:EDT
DTSTART:20240310T020000
TZOFFSETFROM:-0500
TZOFFSETTO:-0400
RDATE:20250309T020000
RDATE:20260308T020000
END:DAYLIGHT
END:VTIMEZONE
BEGIN:VEVENT
UID:a954ef65-f304-4d06-9121-81a53b380cff
DTSTAMP:20260421T084706Z
DESCRIPTION:Love cats and books? We have the book club for you! Join us at 
 the Aristocat Café on the third Friday of each month from 10:00am-11:00am.
  This month's book is 'Legends & Lattes\,' by Travis Baldree. Enjoy some t
 ea\, discuss the book\, and play with some cats. \n\nDiscussion will take 
 place in the cat room so cats will be nearby. Tea provided by the library.
  Limited number of spots available\; register at the link provided to ensu
 re a spot.
DTSTART;TZID=America/New_York:20250117T100000
DTEND;TZID=America/New_York:20250117T110000
LOCATION:Aristocat Cafe\, 111 N. Liberty Street\, Harrisonburg\, VA 22802 U
 S
SUMMARY:Cat Chats Book Club @Aristocat Cafe
END:VEVENT
END:VCALENDAR
