BEGIN:VCALENDAR
VERSION:2.0
PRODID:-//mrlib.org//NONSGML kigkonsult.se iCalcreator 2.30.10//
CALSCALE:GREGORIAN
METHOD:PUBLISH
UID:34a0f911-1b8b-4430-b1ea-d89b9e444e1c
X-WR-CALDESC:Teens and adults - join us for a two-part writing workshop on 
 developing a short story\, led by Judith Dreyer! After the workshop\, part
 icipants are encouraged to write a short story (1\,500-3\,000 words) over 
 the next month\, using helpful handouts provided by Judith. We'll use our 
 chosen book for Big Read\, 'Homegoing\,' as our prompt and inspiration! \n
 \nRegister today for our informative writing workshop by clicking the 'Reg
 ister Now' button.
X-WR-RELCALID:c3ec42385227e2347af73ee470207a3e
X-WR-TIMEZONE:America/New_York
BEGIN:VTIMEZONE
TZID:America/New_York
BEGIN:STANDARD
TZNAME:EST
DTSTART:20241103T020000
TZOFFSETFROM:-0400
TZOFFSETTO:-0500
RDATE:20251102T020000
END:STANDARD
BEGIN:DAYLIGHT
TZNAME:EDT
DTSTART:20240310T020000
TZOFFSETFROM:-0500
TZOFFSETTO:-0400
RDATE:20250309T020000
RDATE:20260308T020000
END:DAYLIGHT
END:VTIMEZONE
BEGIN:VEVENT
UID:6bbf0424-3657-42b7-b9ac-7c0bee5b3a00
DTSTAMP:20260422T140139Z
DESCRIPTION:Teens and adults - join us for a two-part writing workshop on d
 eveloping a short story\, led by Judith Dreyer! After the workshop\, parti
 cipants are encouraged to write a short story (1\,500-3\,000 words) over t
 he next month\, using helpful handouts provided by Judith. We'll use our c
 hosen book for Big Read\, 'Homegoing\,' as our prompt and inspiration! \n
 \nRegister today for our informative writing workshop by clicking the 'Reg
 ister Now' button.
DTSTART;TZID=America/New_York:20250306T180000
DTEND;TZID=America/New_York:20250306T193000
LOCATION:Central Library\, 174 S. Main Street\, Harrisonburg\, VA 22801 US
SUMMARY:BIG READ: The Power of Stories @Central Library
END:VEVENT
END:VCALENDAR
