BEGIN:VCALENDAR
VERSION:2.0
PRODID:-//mrlib.org//NONSGML kigkonsult.se iCalcreator 2.30.10//
CALSCALE:GREGORIAN
METHOD:PUBLISH
UID:4b967897-2594-4baa-bed4-2090e1556500
X-WR-CALDESC:Teens ages 11-17: Why button making? Well\, why not? Buttons a
 re cool! (They're totally cool. Those are the rules. I didn't make the rul
 es.) Each button is unique and totally you\, so drop in to make some and s
 how off your distinctive brand of pizazz!
X-WR-RELCALID:81525dfb8a5154ab60e65faa6d260af5
X-WR-TIMEZONE:America/New_York
BEGIN:VTIMEZONE
TZID:America/New_York
BEGIN:STANDARD
TZNAME:EST
DTSTART:20241103T020000
TZOFFSETFROM:-0400
TZOFFSETTO:-0500
RDATE:20251102T020000
END:STANDARD
BEGIN:DAYLIGHT
TZNAME:EDT
DTSTART:20250309T020000
TZOFFSETFROM:-0500
TZOFFSETTO:-0400
RDATE:20260308T020000
END:DAYLIGHT
END:VTIMEZONE
BEGIN:VEVENT
UID:65d26e83-b407-4a9e-8270-d2f0df3a013e
DTSTAMP:20260424T193227Z
DESCRIPTION:Teens ages 11-17: Why button making? Well\, why not? Buttons ar
 e cool! (They're totally cool. Those are the rules. I didn't make the rule
 s.) Each button is unique and totally you\, so drop in to make some and sh
 ow off your distinctive brand of pizazz!
DTSTART;TZID=America/New_York:20250313T160000
DTEND;TZID=America/New_York:20250313T170000
LOCATION:Elkton Community Library\, 106 N. Terrace Avenue\, Elkton\, VA 228
 27 US
SUMMARY:Button Making @Elkton Community Library
END:VEVENT
END:VCALENDAR
