BEGIN:VCALENDAR
VERSION:2.0
PRODID:-//mrlib.org//NONSGML kigkonsult.se iCalcreator 2.30.10//
CALSCALE:GREGORIAN
METHOD:PUBLISH
UID:8ac85732-58af-425d-a58f-562253e50993
X-WR-CALDESC:Are you a stay-at-home mom? Household manager? Family CEO? Wha
 tever you like to call yourself (and we're sure you're doing a great job!)
 \, sometimes you just need a break! Join us at Shenandoah Community Librar
 y for an hour while the kids are at school! \n\nWe can discuss current eve
 nts\, new books\, or even share our recent crafts! But don't worry\, we wo
 n't talk about chicken nuggets\, cleaning\, or math homework...
X-WR-RELCALID:8c60eea2b288e43e11c954db9e96245a
X-WR-TIMEZONE:America/New_York
BEGIN:VTIMEZONE
TZID:America/New_York
BEGIN:STANDARD
TZNAME:EST
DTSTART:20241103T020000
TZOFFSETFROM:-0400
TZOFFSETTO:-0500
RDATE:20251102T020000
END:STANDARD
BEGIN:DAYLIGHT
TZNAME:EDT
DTSTART:20250309T020000
TZOFFSETFROM:-0500
TZOFFSETTO:-0400
RDATE:20260308T020000
END:DAYLIGHT
END:VTIMEZONE
BEGIN:VEVENT
UID:2eded20c-7ac6-475a-a4f1-55e33ce58b0d
DTSTAMP:20260421T095900Z
DESCRIPTION:Are you a stay-at-home mom? Household manager? Family CEO? What
 ever you like to call yourself (and we're sure you're doing a great job!)\
 , sometimes you just need a break! Join us at Shenandoah Community Library
  for an hour while the kids are at school! \n\nWe can discuss current even
 ts\, new books\, or even share our recent crafts! But don't worry\, we won
 't talk about chicken nuggets\, cleaning\, or math homework...
DTSTART;TZID=America/New_York:20250320T103000
DTEND;TZID=America/New_York:20250320T113000
LOCATION:Shenandoah Community Library\, 418 S. Third Street\, Shenandoah\, 
 VA 22849 US
SUMMARY:SAHM Social Hour @Shenandoah Community Library
END:VEVENT
END:VCALENDAR
