BEGIN:VCALENDAR
VERSION:2.0
PRODID:-//mrlib.org//NONSGML kigkonsult.se iCalcreator 2.30.10//
CALSCALE:GREGORIAN
METHOD:PUBLISH
UID:7f61604e-8897-49a4-8fcc-f3dcd4ec6271
X-WR-CALDESC:Join us for a book discussion on 'Homegoing\,' by Yaa Gyasi\, 
 at Broad Porch Cafe for Big Read! Registration is required\, so click the 
 'Register Now' button to save a spot.
X-WR-RELCALID:ec9855ad48ee633d2a3f8d66fa80afde
X-WR-TIMEZONE:America/New_York
BEGIN:VTIMEZONE
TZID:America/New_York
BEGIN:STANDARD
TZNAME:EST
DTSTART:20241103T020000
TZOFFSETFROM:-0400
TZOFFSETTO:-0500
RDATE:20251102T020000
END:STANDARD
BEGIN:DAYLIGHT
TZNAME:EDT
DTSTART:20250309T020000
TZOFFSETFROM:-0500
TZOFFSETTO:-0400
RDATE:20260308T020000
END:DAYLIGHT
END:VTIMEZONE
BEGIN:VEVENT
UID:91456e2a-9d87-4e38-bdc8-ba752e57b060
DTSTAMP:20260420T014752Z
DESCRIPTION:Join us for a book discussion on 'Homegoing\,' by Yaa Gyasi\, a
 t Broad Porch Cafe for Big Read! Registration is required\, so click the '
 Register Now' button to save a spot.
DTSTART;TZID=America/New_York:20250401T130000
DTEND;TZID=America/New_York:20250401T140000
LOCATION:Broad Porch Cafe\, 47 Court Square\, Harrisonburg\, VA 22801 US
SUMMARY:BIG READ: 'Homegoing' Discussion @Broad Porch Cafe
END:VEVENT
END:VCALENDAR
