BEGIN:VCALENDAR
VERSION:2.0
PRODID:-//mrlib.org//NONSGML kigkonsult.se iCalcreator 2.30.10//
CALSCALE:GREGORIAN
METHOD:PUBLISH
UID:b92bb402-55d9-4ff7-a001-2597d8b125a3
X-WR-CALDESC:Shake out your sillies at this story time for ages 0-2 years. 
 Come explore new books and learn simple songs and nursey rhymes to enhance
  early literacy development.
X-WR-RELCALID:f0990300d8670e262329b74c6c916100
X-WR-TIMEZONE:America/New_York
BEGIN:VTIMEZONE
TZID:America/New_York
BEGIN:STANDARD
TZNAME:EST
DTSTART:20241103T020000
TZOFFSETFROM:-0400
TZOFFSETTO:-0500
RDATE:20251102T020000
END:STANDARD
BEGIN:DAYLIGHT
TZNAME:EDT
DTSTART:20250309T020000
TZOFFSETFROM:-0500
TZOFFSETTO:-0400
RDATE:20260308T020000
END:DAYLIGHT
END:VTIMEZONE
BEGIN:VEVENT
UID:928acf55-33ec-4580-8d9a-d590034ab539
DTSTAMP:20260421T102301Z
DESCRIPTION:Shake out your sillies at this story time for ages 0-2 years. C
 ome explore new books and learn simple songs and nursey rhymes to enhance 
 early literacy development.
DTSTART;TZID=America/New_York:20250402T100000
DTEND;TZID=America/New_York:20250402T103000
LOCATION:Central Library\, 174 S. Main St.\, Harrisonburg\, VA 22801 US
SUMMARY:Babies\, Books\, and Movement @ Central Library
END:VEVENT
END:VCALENDAR
