BEGIN:VCALENDAR
VERSION:2.0
PRODID:-//mrlib.org//NONSGML kigkonsult.se iCalcreator 2.30.10//
CALSCALE:GREGORIAN
METHOD:PUBLISH
UID:e684492f-193f-45c3-845c-4098d9412c53
X-WR-CALDESC:Join us for a celebration of Big Read with a special Story Tim
 e! 3-5 year-olds and their caregivers are invited to hear kids stories\, s
 ing songs\, and participate in fun activities that introduce them to the w
 onders of Africa while promoting school readiness.
X-WR-RELCALID:57c3621b6483a97fe05dbafa14e2e9ed
X-WR-TIMEZONE:America/New_York
BEGIN:VTIMEZONE
TZID:America/New_York
BEGIN:STANDARD
TZNAME:EST
DTSTART:20241103T020000
TZOFFSETFROM:-0400
TZOFFSETTO:-0500
RDATE:20251102T020000
END:STANDARD
BEGIN:DAYLIGHT
TZNAME:EDT
DTSTART:20250309T020000
TZOFFSETFROM:-0500
TZOFFSETTO:-0400
RDATE:20260308T020000
END:DAYLIGHT
END:VTIMEZONE
BEGIN:VEVENT
UID:ad6d2fcb-99fe-47af-9629-4f14a1e24d67
DTSTAMP:20260425T174812Z
DESCRIPTION:Join us for a celebration of Big Read with a special Story Time
 ! 3-5 year-olds and their caregivers are invited to hear kids stories\, si
 ng songs\, and participate in fun activities that introduce them to the wo
 nders of Africa while promoting school readiness.
DTSTART;TZID=America/New_York:20250402T110000
DTEND;TZID=America/New_York:20250402T113000
LOCATION:Central Library\, 174 S. Main St.\, Harrisonburg\, VA 22801 US
SUMMARY:BIG READ: Playful Preschoolers @Central Library
END:VEVENT
END:VCALENDAR
