BEGIN:VCALENDAR
VERSION:2.0
PRODID:-//mrlib.org//NONSGML kigkonsult.se iCalcreator 2.30.10//
CALSCALE:GREGORIAN
METHOD:PUBLISH
UID:98b22ce4-342a-4543-b868-6070092d552d
X-WR-CALDESC:Book titles are selected in three month cycles. Meetings inclu
 de a 30 minute facilitated discussion followed by a social gathering. No r
 egistration required and new members are always welcome to drop in!\n\nMem
 bers can discuss books they read in March. Books for the April - June cycl
 e will include 'Homegoing\,' by Yaa Gyasi\;* 'Real Americans\,' by Rachel 
 Khong\; 'And the Mountains Echoed\,' by Khaled Hosseini\; and 'Banyan Moon
 \,' by Thao Thai. \n\n*We're reading 'Homegoing' in celebration of MRL's B
 ig Read! Big Read is a national\, community-focused movement striving to b
 roaden understandings of ourselves and our neighbors through a shared read
 ing experience\, sponsored by the National Endowment for the Arts. MRL is 
 hosting tons of Big Read events from February 28th to April 12th - click t
 he link below for more information!
X-WR-RELCALID:e7a6a040a6e94a19465e0528b4f38f31
X-WR-TIMEZONE:America/New_York
BEGIN:VTIMEZONE
TZID:America/New_York
BEGIN:STANDARD
TZNAME:EST
DTSTART:20241103T020000
TZOFFSETFROM:-0400
TZOFFSETTO:-0500
RDATE:20251102T020000
END:STANDARD
BEGIN:DAYLIGHT
TZNAME:EDT
DTSTART:20250309T020000
TZOFFSETFROM:-0500
TZOFFSETTO:-0400
RDATE:20260308T020000
END:DAYLIGHT
END:VTIMEZONE
BEGIN:VEVENT
UID:230056df-a46a-450f-8ed7-2a92ce226a20
DTSTAMP:20260421T212748Z
DESCRIPTION:Book titles are selected in three month cycles. Meetings includ
 e a 30 minute facilitated discussion followed by a social gathering. No re
 gistration required and new members are always welcome to drop in!\n\nMemb
 ers can discuss books they read in March. Books for the April - June cycle
  will include 'Homegoing\,' by Yaa Gyasi\;* 'Real Americans\,' by Rachel K
 hong\; 'And the Mountains Echoed\,' by Khaled Hosseini\; and 'Banyan Moon\
 ,' by Thao Thai. \n\n*We're reading 'Homegoing' in celebration of MRL's Bi
 g Read! Big Read is a national\, community-focused movement striving to br
 oaden understandings of ourselves and our neighbors through a shared readi
 ng experience\, sponsored by the National Endowment for the Arts. MRL is h
 osting tons of Big Read events from February 28th to April 12th - click th
 e link below for more information!
DTSTART;TZID=America/New_York:20250402T200000
DTEND;TZID=America/New_York:20250402T210000
LOCATION:Sage Bird Ciderworks\, 325 N. Liberty Street\, Harrisonburg\, VA 2
 2801 US
SUMMARY:BIG READ: Sage & Page Book Club @ Sage Bird Ciderworks
END:VEVENT
END:VCALENDAR
