BEGIN:VCALENDAR
VERSION:2.0
PRODID:-//mrlib.org//NONSGML kigkonsult.se iCalcreator 2.30.10//
CALSCALE:GREGORIAN
METHOD:PUBLISH
UID:c407d37b-84e6-4d26-b3a3-5f49d34a3bb4
X-WR-CALDESC:Ages 11-17 are invited to drop-in weekly for gaming with other
 s. Join us every Tuesday afternoon for a fun time!
X-WR-RELCALID:a6d205388f3fb3a1e2b6556dfc110942
X-WR-TIMEZONE:America/New_York
BEGIN:VTIMEZONE
TZID:America/New_York
BEGIN:STANDARD
TZNAME:EST
DTSTART:20241103T020000
TZOFFSETFROM:-0400
TZOFFSETTO:-0500
RDATE:20251102T020000
END:STANDARD
BEGIN:DAYLIGHT
TZNAME:EDT
DTSTART:20250309T020000
TZOFFSETFROM:-0500
TZOFFSETTO:-0400
RDATE:20260308T020000
END:DAYLIGHT
END:VTIMEZONE
BEGIN:VEVENT
UID:ff60a007-6860-4232-b018-8cc73d1062f8
DTSTAMP:20260422T003243Z
DESCRIPTION:Ages 11-17 are invited to drop-in weekly for gaming with others
 . Join us every Tuesday afternoon for a fun time!
DTSTART;TZID=America/New_York:20250408T160000
DTEND;TZID=America/New_York:20250408T173000
LOCATION:Page Public Library\, 100 Zerkel Street\, Luray\, VA 22835 US
SUMMARY:Switch Open Gaming Time for Teens! @Page Public Library
END:VEVENT
END:VCALENDAR
