BEGIN:VCALENDAR
VERSION:2.0
PRODID:-//mrlib.org//NONSGML kigkonsult.se iCalcreator 2.30.10//
CALSCALE:GREGORIAN
METHOD:PUBLISH
UID:9294f330-abf0-4cae-aed2-cfb45dab9a7b
X-WR-CALDESC:Join the fun as we set up a variety of board games for all age
 s.
X-WR-RELCALID:bb84409bedb8e7b512aa11779a5bccc2
X-WR-TIMEZONE:America/New_York
BEGIN:VTIMEZONE
TZID:America/New_York
BEGIN:STANDARD
TZNAME:EST
DTSTART:20241103T020000
TZOFFSETFROM:-0400
TZOFFSETTO:-0500
RDATE:20251102T020000
END:STANDARD
BEGIN:DAYLIGHT
TZNAME:EDT
DTSTART:20250309T020000
TZOFFSETFROM:-0500
TZOFFSETTO:-0400
RDATE:20260308T020000
END:DAYLIGHT
END:VTIMEZONE
BEGIN:VEVENT
UID:19249155-bf90-4261-8cc1-77a45929699e
DTSTAMP:20260421T180744Z
DESCRIPTION:Join the fun as we set up a variety of board games for all ages
 .
DTSTART;TZID=America/New_York:20250410T160000
DTEND;TZID=America/New_York:20250410T170000
LOCATION:601 Dogwood Ave\, Grottoes\, VA 24441 US
SUMMARY:Board Games @ Grottoes Branch Library
END:VEVENT
END:VCALENDAR
