BEGIN:VCALENDAR
VERSION:2.0
PRODID:-//mrlib.org//NONSGML kigkonsult.se iCalcreator 2.30.10//
CALSCALE:GREGORIAN
METHOD:PUBLISH
UID:c24194af-df70-4a0c-aebc-bc0c1cd3649f
X-WR-CALDESC:The Rocktown Author Festival is a completely free celebration 
 of local published authors! Our 5th annual Festival will include a meet-an
 d-greet for members of our community to purchase 36 authors' works\, as we
 ll as 3 panel sessions led by the authors. Book lovers and aspiring writer
 s enjoy meeting and learning from successful authors each year!\n\nRegistr
 ation is required to attend the panel sessions\, so click the link below f
 or more information and to save a spot!
X-WR-RELCALID:353327764c9da2d8c64d7ef3d8df70d5
X-WR-TIMEZONE:America/New_York
BEGIN:VTIMEZONE
TZID:America/New_York
BEGIN:STANDARD
TZNAME:EST
DTSTART:20241103T020000
TZOFFSETFROM:-0400
TZOFFSETTO:-0500
RDATE:20251102T020000
END:STANDARD
BEGIN:DAYLIGHT
TZNAME:EDT
DTSTART:20250309T020000
TZOFFSETFROM:-0500
TZOFFSETTO:-0400
RDATE:20260308T020000
END:DAYLIGHT
END:VTIMEZONE
BEGIN:VEVENT
UID:5aa4b0b1-7173-4334-bfc3-19e948edca20
DTSTAMP:20260421T144523Z
DESCRIPTION:The Rocktown Author Festival is a completely free celebration o
 f local published authors! Our 5th annual Festival will include a meet-and
 -greet for members of our community to purchase 36 authors' works\, as wel
 l as 3 panel sessions led by the authors. Book lovers and aspiring writers
  enjoy meeting and learning from successful authors each year!\n\nRegistra
 tion is required to attend the panel sessions\, so click the link below fo
 r more information and to save a spot!
DTSTART;TZID=America/New_York:20250412T100000
DTEND;TZID=America/New_York:20250412T150000
LOCATION:Central Library\, 174 S. Main Street\, Harrisonburg\, VA 22801 US
SUMMARY:Rocktown Author Festival @Central Library
END:VEVENT
END:VCALENDAR
