BEGIN:VCALENDAR
VERSION:2.0
PRODID:-//mrlib.org//NONSGML kigkonsult.se iCalcreator 2.30.10//
CALSCALE:GREGORIAN
METHOD:PUBLISH
UID:26cd0e35-083e-4223-bf7e-85715f62b555
X-WR-CALDESC:Come discuss our most recent book club choice! \n\nBook select
 ion for this month's discussion: 'Bitter Greens\,' by Kate Forsyth
X-WR-RELCALID:3997958d1e439772aea64eed9392cbc7
X-WR-TIMEZONE:America/New_York
BEGIN:VTIMEZONE
TZID:America/New_York
BEGIN:STANDARD
TZNAME:EST
DTSTART:20241103T020000
TZOFFSETFROM:-0400
TZOFFSETTO:-0500
RDATE:20251102T020000
END:STANDARD
BEGIN:DAYLIGHT
TZNAME:EDT
DTSTART:20250309T020000
TZOFFSETFROM:-0500
TZOFFSETTO:-0400
RDATE:20260308T020000
END:DAYLIGHT
END:VTIMEZONE
BEGIN:VEVENT
UID:55bad47b-587b-414d-a6cf-43e3b3ddbc4c
DTSTAMP:20260419T164130Z
DESCRIPTION:Come discuss our most recent book club choice! \n\nBook selecti
 on for this month's discussion: 'Bitter Greens\,' by Kate Forsyth
DTSTART;TZID=America/New_York:20250416T163000
DTEND;TZID=America/New_York:20250416T173000
LOCATION:Village Library\, 175 N. Main Street\, Broadway\, VA 22815 US
SUMMARY:Broadway Bookends Book Club @Village Library
END:VEVENT
END:VCALENDAR
