BEGIN:VCALENDAR
VERSION:2.0
PRODID:-//mrlib.org//NONSGML kigkonsult.se iCalcreator 2.30.10//
CALSCALE:GREGORIAN
METHOD:PUBLISH
UID:0d510a9b-3028-4c76-9ebc-07db5e5ea1e0
X-WR-CALDESC:Teens and adults: discuss banking basics with Jonathan Comer\,
  Senior Vice President/Commercial Banker at First Bank and Trust! We'll le
 arn everything you need to know about saving money\, credit reports\, and 
 more.
X-WR-RELCALID:15025990191ea9f54504a1b8a40bc34b
X-WR-TIMEZONE:America/New_York
BEGIN:VTIMEZONE
TZID:America/New_York
BEGIN:STANDARD
TZNAME:EST
DTSTART:20241103T020000
TZOFFSETFROM:-0400
TZOFFSETTO:-0500
RDATE:20251102T020000
END:STANDARD
BEGIN:DAYLIGHT
TZNAME:EDT
DTSTART:20250309T020000
TZOFFSETFROM:-0500
TZOFFSETTO:-0400
RDATE:20260308T020000
END:DAYLIGHT
END:VTIMEZONE
BEGIN:VEVENT
UID:0f888b6c-949e-461d-9b33-9c1dcf526c1f
DTSTAMP:20260422T091218Z
DESCRIPTION:Teens and adults: discuss banking basics with Jonathan Comer\, 
 Senior Vice President/Commercial Banker at First Bank and Trust! We'll lea
 rn everything you need to know about saving money\, credit reports\, and m
 ore.
DTSTART;TZID=America/New_York:20250417T133000
DTEND;TZID=America/New_York:20250417T143000
LOCATION:Shenandoah Community Library\, 418 S. Third Street\, Shenandoah\, 
 VA 22849 US
SUMMARY:Financial Literacy @Shenandoah Community Library
END:VEVENT
END:VCALENDAR
