BEGIN:VCALENDAR
VERSION:2.0
PRODID:-//mrlib.org//NONSGML kigkonsult.se iCalcreator 2.30.10//
CALSCALE:GREGORIAN
METHOD:PUBLISH
UID:68be0f35-c829-4caa-a61b-cc201c74c221
X-WR-CALDESC:Enjoy True Crime? Want to talk about it with a group of other 
 like minded people?  Well you are in luck. This book club will be held at 
 the Central Library on the 4th Tuesday monthly.*\n\nApril's book pick: 'Th
 e Stranger Beside Me\,' by Ann Rule\n\n*April's meeting was moved from the
  4th Tuesday to the 5th Tuesday. Future meetings will continue to be every
  4th Tuesday.*
X-WR-RELCALID:aaea8d387e1f82d397c4f692f8b751da
X-WR-TIMEZONE:America/New_York
BEGIN:VTIMEZONE
TZID:America/New_York
BEGIN:STANDARD
TZNAME:EST
DTSTART:20241103T020000
TZOFFSETFROM:-0400
TZOFFSETTO:-0500
RDATE:20251102T020000
END:STANDARD
BEGIN:DAYLIGHT
TZNAME:EDT
DTSTART:20250309T020000
TZOFFSETFROM:-0500
TZOFFSETTO:-0400
RDATE:20260308T020000
END:DAYLIGHT
END:VTIMEZONE
BEGIN:VEVENT
UID:895c6889-77e3-4780-811d-c41a4c054781
DTSTAMP:20260422T091224Z
DESCRIPTION:Enjoy True Crime? Want to talk about it with a group of other l
 ike minded people?  Well you are in luck. This book club will be held at t
 he Central Library on the 4th Tuesday monthly.*\n\nApril's book pick: 'The
  Stranger Beside Me\,' by Ann Rule\n\n*April's meeting was moved from the 
 4th Tuesday to the 5th Tuesday. Future meetings will continue to be every 
 4th Tuesday.*
DTSTART;TZID=America/New_York:20250429T180000
DTEND;TZID=America/New_York:20250429T200000
LOCATION:Central Library\, 174 S. Main Street\, Harrisonburg\, VA 22801 US
SUMMARY:True Crime Book Club @Central Library
END:VEVENT
END:VCALENDAR
