BEGIN:VCALENDAR
VERSION:2.0
PRODID:-//mrlib.org//NONSGML kigkonsult.se iCalcreator 2.30.10//
CALSCALE:GREGORIAN
METHOD:PUBLISH
UID:099164e4-33ac-4d6d-a0cd-3e8347c641a8
X-WR-CALDESC:Shenandoah Community Library Board invites your family to join
  their friends at Christ United Methodist Church for an egg hunt. Pizza an
 d drinks will also be served - come join in the mega egg hunt fun!
X-WR-RELCALID:c6673a104ddae7d2dfab8d26357d48b0
X-WR-TIMEZONE:America/New_York
BEGIN:VTIMEZONE
TZID:America/New_York
BEGIN:STANDARD
TZNAME:EST
DTSTART:20231105T020000
TZOFFSETFROM:-0400
TZOFFSETTO:-0500
RDATE:20241103T020000
END:STANDARD
BEGIN:DAYLIGHT
TZNAME:EDT
DTSTART:20240310T020000
TZOFFSETFROM:-0500
TZOFFSETTO:-0400
RDATE:20250309T020000
END:DAYLIGHT
END:VTIMEZONE
BEGIN:VEVENT
UID:458f3d11-9d15-4dd5-8fae-579f6dd26669
DTSTAMP:20260425T022018Z
DESCRIPTION:Shenandoah Community Library Board invites your family to join 
 their friends at Christ United Methodist Church for an egg hunt. Pizza and
  drinks will also be served - come join in the mega egg hunt fun!
DTSTART;TZID=America/New_York:20240330T120000
DTEND;TZID=America/New_York:20240330T130000
LOCATION:Big Gem Park Gazebo\, 736 Fourth St\, Shenandoah\, VA 22849 US
SUMMARY:Mega Easter Egg Hunt @Big Gem Park
END:VEVENT
END:VCALENDAR
