BEGIN:VCALENDAR
VERSION:2.0
PRODID:-//mrlib.org//NONSGML kigkonsult.se iCalcreator 2.30.10//
CALSCALE:GREGORIAN
METHOD:PUBLISH
UID:949c595f-0ced-4d14-b00f-b6e1b8046d7d
X-WR-CALDESC:Join us on the Elk Run trails with retired Shenandoah National
  Park Ranger-Naturalist Mara Meisel! We’ll walk the trails to see what flo
 ra and fauna we can discover. Bring sunscreen\, bug spray and binoculars i
 f you have them! Dress for a 1 mile hike. All ages are welcome but this pr
 ogram will be canceled if it rains.
X-WR-RELCALID:ae5f92a6e34466a156e2ed705962b4e0
X-WR-TIMEZONE:America/New_York
BEGIN:VTIMEZONE
TZID:America/New_York
BEGIN:STANDARD
TZNAME:EST
DTSTART:20231105T020000
TZOFFSETFROM:-0400
TZOFFSETTO:-0500
RDATE:20241103T020000
RDATE:20251102T020000
END:STANDARD
BEGIN:DAYLIGHT
TZNAME:EDT
DTSTART:20240310T020000
TZOFFSETFROM:-0500
TZOFFSETTO:-0400
RDATE:20250309T020000
END:DAYLIGHT
END:VTIMEZONE
BEGIN:VEVENT
UID:a072a90a-7ab7-4ada-a2e1-88099b57cf53
DTSTAMP:20260424T180331Z
DESCRIPTION:Join us on the Elk Run trails with retired Shenandoah National 
 Park Ranger-Naturalist Mara Meisel! We’ll walk the trails to see what flor
 a and fauna we can discover. Bring sunscreen\, bug spray and binoculars if
  you have them! Dress for a 1 mile hike. All ages are welcome but this pro
 gram will be canceled if it rains.
DTSTART;TZID=America/New_York:20240608T100000
DTEND;TZID=America/New_York:20240608T120000
LOCATION:Elk Run Trails\, behind Elkton Community Center\, 20593 Blue and G
 old Dr.\, Elkton\, VA 22827 US
SUMMARY:Discovery Hike @Elk Run Trails
END:VEVENT
END:VCALENDAR
