BEGIN:VCALENDAR
VERSION:2.0
PRODID:-//mrlib.org//NONSGML kigkonsult.se iCalcreator 2.30.10//
CALSCALE:GREGORIAN
METHOD:PUBLISH
UID:2b5031cd-dde5-4631-9c43-715350550a04
X-WR-CALDESC:Come hear stories and make a cool craft for Father's Day at th
 is great program with our friends at the Chamber of Commerce and the Farme
 rs Market!
X-WR-RELCALID:94d1befc2351726aebc8b45e5f065765
X-WR-TIMEZONE:America/New_York
BEGIN:VTIMEZONE
TZID:America/New_York
BEGIN:STANDARD
TZNAME:EST
DTSTART:20231105T020000
TZOFFSETFROM:-0400
TZOFFSETTO:-0500
RDATE:20241103T020000
RDATE:20251102T020000
END:STANDARD
BEGIN:DAYLIGHT
TZNAME:EDT
DTSTART:20240310T020000
TZOFFSETFROM:-0500
TZOFFSETTO:-0400
RDATE:20250309T020000
END:DAYLIGHT
END:VTIMEZONE
BEGIN:VEVENT
UID:76396bf0-8ca2-4fa6-ad2f-da4f1df5501b
DTSTAMP:20260422T155857Z
DESCRIPTION:Come hear stories and make a cool craft for Father's Day at thi
 s great program with our friends at the Chamber of Commerce and the Farmer
 s Market!
DTSTART;TZID=America/New_York:20240615T100000
DTEND;TZID=America/New_York:20240615T113000
LOCATION:Luray/Page Chamber of Commerce\, 18 Campbell Street\, Luray\, VA 2
 2835 US
SUMMARY:Father's Day Story Time @Daughter of the Stars Farmers Market
END:VEVENT
END:VCALENDAR
