BEGIN:VCALENDAR
VERSION:2.0
PRODID:-//mrlib.org//NONSGML kigkonsult.se iCalcreator 2.30.10//
CALSCALE:GREGORIAN
METHOD:PUBLISH
UID:97bd802b-102c-4d71-9f07-6b52a88ea706
X-WR-CALDESC:Grab some free MRL books\, bookmarks\, and program information
  at the Town of Elkton's Christmas event!
X-WR-RELCALID:7d4ece9ac9932e9bdc2183b0c428888a
X-WR-TIMEZONE:America/New_York
BEGIN:VTIMEZONE
TZID:America/New_York
BEGIN:STANDARD
TZNAME:EST
DTSTART:20241103T020000
TZOFFSETFROM:-0400
TZOFFSETTO:-0500
RDATE:20251102T020000
END:STANDARD
BEGIN:DAYLIGHT
TZNAME:EDT
DTSTART:20240310T020000
TZOFFSETFROM:-0500
TZOFFSETTO:-0400
RDATE:20250309T020000
RDATE:20260308T020000
END:DAYLIGHT
END:VTIMEZONE
BEGIN:VEVENT
UID:40ec756d-9ff3-47d8-85d8-85d21382b34a
DTSTAMP:20260421T080006Z
DESCRIPTION:Grab some free MRL books\, bookmarks\, and program information 
 at the Town of Elkton's Christmas event!
DTSTART;TZID=America/New_York:20241207T150000
DTEND;TZID=America/New_York:20241207T190000
LOCATION:Town of Elkton\, Elkton\, VA 22827 US
SUMMARY:Old Town Christmas
END:VEVENT
END:VCALENDAR
