BEGIN:VCALENDAR
VERSION:2.0
PRODID:-//mrlib.org//NONSGML kigkonsult.se iCalcreator 2.30.10//
CALSCALE:GREGORIAN
METHOD:PUBLISH
UID:4c8b8bf9-3ce4-4a2a-92ab-7fcbfee6bef4
X-WR-CALDESC:It's shocking how much fun you can have with SnapCircuit kits!
  K-5 kids will enjoy learning about electricity\, circuits\, and other STE
 M concepts.
X-WR-RELCALID:c32899fdaa4fb8f3c069f755582e0705
X-WR-TIMEZONE:America/New_York
BEGIN:VTIMEZONE
TZID:America/New_York
BEGIN:STANDARD
TZNAME:EST
DTSTART:20241103T020000
TZOFFSETFROM:-0400
TZOFFSETTO:-0500
RDATE:20251102T020000
END:STANDARD
BEGIN:DAYLIGHT
TZNAME:EDT
DTSTART:20240310T020000
TZOFFSETFROM:-0500
TZOFFSETTO:-0400
RDATE:20250309T020000
RDATE:20260308T020000
END:DAYLIGHT
END:VTIMEZONE
BEGIN:VEVENT
UID:8bdd5fde-f8fc-49ef-b720-b2cf673acc98
DTSTAMP:20260422T013150Z
DESCRIPTION:It's shocking how much fun you can have with SnapCircuit kits! 
 K-5 kids will enjoy learning about electricity\, circuits\, and other STEM
  concepts.
DTSTART;TZID=America/New_York:20250130T160000
DTEND;TZID=America/New_York:20250130T170000
LOCATION:Page Public Library\, 100 Zerkel Street\, Luray\, VA 22835 US
SUMMARY:Snap Circuits @Page Public Library
END:VEVENT
END:VCALENDAR
