BEGIN:VCALENDAR
VERSION:2.0
PRODID:-//mrlib.org//NONSGML kigkonsult.se iCalcreator 2.30.10//
CALSCALE:GREGORIAN
METHOD:PUBLISH
UID:d4dea3fc-8a4d-4190-93a8-b652078635a1
X-WR-CALDESC:All ages are welcome to join us at our Summer Reading Challeng
 e Kickoff party at Restless Moons Brewing!\n\nWe'll chat about our Summer 
 Reading TBRs and reading resolutions\, share book suggestions\, craft\, pl
 ay bookish games and trivia\, and much more - including pinball\, arcade g
 ames\, and a lovely outdoor space for kids! \n\nAdults can purchase delici
 ous alcoholic and non-alcoholic drinks\, while kids can enjoy yummy juices
  and sodas\, so don't miss out on our fun\, family-friendly Summer Reading
  Kickoff!
X-WR-RELCALID:1577ccaf3db8d3f15afc635d8eabb682
X-WR-TIMEZONE:America/New_York
BEGIN:VTIMEZONE
TZID:America/New_York
BEGIN:STANDARD
TZNAME:EST
DTSTART:20241103T020000
TZOFFSETFROM:-0400
TZOFFSETTO:-0500
RDATE:20251102T020000
RDATE:20261101T020000
END:STANDARD
BEGIN:DAYLIGHT
TZNAME:EDT
DTSTART:20250309T020000
TZOFFSETFROM:-0500
TZOFFSETTO:-0400
RDATE:20260308T020000
END:DAYLIGHT
END:VTIMEZONE
BEGIN:VEVENT
UID:3b593765-8985-409d-9da1-dfb69082f551
DTSTAMP:20260420T023904Z
DESCRIPTION:All ages are welcome to join us at our Summer Reading Challenge
  Kickoff party at Restless Moons Brewing!\n\nWe'll chat about our Summer R
 eading TBRs and reading resolutions\, share book suggestions\, craft\, pla
 y bookish games and trivia\, and much more - including pinball\, arcade ga
 mes\, and a lovely outdoor space for kids! \n\nAdults can purchase delicio
 us alcoholic and non-alcoholic drinks\, while kids can enjoy yummy juices 
 and sodas\, so don't miss out on our fun\, family-friendly Summer Reading 
 Kickoff!
DTSTART;TZID=America/New_York:20250601T140000
DTEND;TZID=America/New_York:20250601T160000
LOCATION:Restless Moons Brewing\, 120 West Wolfe St.\, Harrisonburg\, VA 22
 802 US
SUMMARY:Summer Reading Challenge Kickoff @Restless Moons
END:VEVENT
END:VCALENDAR
