BEGIN:VCALENDAR
VERSION:2.0
PRODID:-//mrlib.org//NONSGML kigkonsult.se iCalcreator 2.30.10//
CALSCALE:GREGORIAN
METHOD:PUBLISH
UID:abb38086-21a5-46f3-8025-ba8fdc46cf28
X-WR-CALDESC:MRL's 2025 Summer Reading Challenge engages children and adult
 s in creative and challenging library-based events from June 2 through Aug
 ust 3\, 2025. 2025's theme is 'Color Our World!' Open to readers of all ag
 es\, SRC features a fun reading challenge\, as well as dozens of weekly ev
 ents throughout MRL's seven branches in Harrisonburg\, Rockingham County\,
  and Page County. Using the app Beanstack\, patrons can track their readin
 g and be entered to win prizes! Register on the Beanstack app or in-person
  at any MRL branch in: Bridgewater\, Broadway\, Elkton\, Grottoes\, Harris
 onburg\, Luray\, and Shenandoah.
X-WR-RELCALID:8f7623c5756b9eedfd9554a3852a3ab2
X-WR-TIMEZONE:America/New_York
BEGIN:VTIMEZONE
TZID:America/New_York
BEGIN:STANDARD
TZNAME:EST
DTSTART:20241103T020000
TZOFFSETFROM:-0400
TZOFFSETTO:-0500
RDATE:20251102T020000
RDATE:20261101T020000
END:STANDARD
BEGIN:DAYLIGHT
TZNAME:EDT
DTSTART:20250309T020000
TZOFFSETFROM:-0500
TZOFFSETTO:-0400
RDATE:20260308T020000
END:DAYLIGHT
END:VTIMEZONE
BEGIN:VEVENT
UID:cac1acfc-6ed5-466a-bee2-65c417fe579e
DTSTAMP:20260419T224032Z
DESCRIPTION:MRL's 2025 Summer Reading Challenge engages children and adults
  in creative and challenging library-based events from June 2 through Augu
 st 3\, 2025. 2025's theme is 'Color Our World!' Open to readers of all age
 s\, SRC features a fun reading challenge\, as well as dozens of weekly eve
 nts throughout MRL's seven branches in Harrisonburg\, Rockingham County\, 
 and Page County. Using the app Beanstack\, patrons can track their reading
  and be entered to win prizes! Register on the Beanstack app or in-person 
 at any MRL branch in: Bridgewater\, Broadway\, Elkton\, Grottoes\, Harriso
 nburg\, Luray\, and Shenandoah.
DTSTART;TZID=America/New_York:20250602T060000
DTEND;TZID=America/New_York:20250803T060001
LOCATION:
SUMMARY:Summer Reading Challenge!
END:VEVENT
END:VCALENDAR
