BEGIN:VCALENDAR
VERSION:2.0
PRODID:-//mrlib.org//NONSGML kigkonsult.se iCalcreator 2.30.10//
CALSCALE:GREGORIAN
METHOD:PUBLISH
UID:187645fb-f305-4a66-b0ef-bae2958e9e83
X-WR-CALDESC:3-5 year olds and their caregivers are invited to hear stories
 \, sing songs\, and participate in fun activities that promote school read
 iness.
X-WR-RELCALID:d6e0081f9c6fdc550790503957a9e225
X-WR-TIMEZONE:America/New_York
BEGIN:VTIMEZONE
TZID:America/New_York
BEGIN:STANDARD
TZNAME:EST
DTSTART:20241103T020000
TZOFFSETFROM:-0400
TZOFFSETTO:-0500
RDATE:20251102T020000
RDATE:20261101T020000
END:STANDARD
BEGIN:DAYLIGHT
TZNAME:EDT
DTSTART:20250309T020000
TZOFFSETFROM:-0500
TZOFFSETTO:-0400
RDATE:20260308T020000
END:DAYLIGHT
END:VTIMEZONE
BEGIN:VEVENT
UID:4cf65aa6-dc47-49a1-8a58-a513f5d6113b
DTSTAMP:20260420T024212Z
DESCRIPTION:3-5 year olds and their caregivers are invited to hear stories\
 , sing songs\, and participate in fun activities that promote school readi
 ness.
DTSTART;TZID=America/New_York:20250603T110000
DTEND;TZID=America/New_York:20250603T113000
LOCATION:Central Library\, 174 S. Main St.\, Harrisonburg\, VA 22801 US
SUMMARY:Playful Preschoolers @ Central Library
END:VEVENT
END:VCALENDAR
