BEGIN:VCALENDAR
VERSION:2.0
PRODID:-//mrlib.org//NONSGML kigkonsult.se iCalcreator 2.30.10//
CALSCALE:GREGORIAN
METHOD:PUBLISH
UID:189c0e1a-2992-4964-b77e-730a7642f78f
X-WR-CALDESC:Join us for a special Story Time as we read books\, sing songs
 \, and learn about fruits and vegetables with the Harrisonburg Farmers Mar
 ket!
X-WR-RELCALID:e543f483c9282d449091d4f18db27335
X-WR-TIMEZONE:America/New_York
BEGIN:VTIMEZONE
TZID:America/New_York
BEGIN:STANDARD
TZNAME:EST
DTSTART:20241103T020000
TZOFFSETFROM:-0400
TZOFFSETTO:-0500
RDATE:20251102T020000
RDATE:20261101T020000
END:STANDARD
BEGIN:DAYLIGHT
TZNAME:EDT
DTSTART:20250309T020000
TZOFFSETFROM:-0500
TZOFFSETTO:-0400
RDATE:20260308T020000
END:DAYLIGHT
END:VTIMEZONE
BEGIN:VEVENT
UID:db33b8ee-6af5-49df-91ef-5e7823e8dfea
DTSTAMP:20260420T025045Z
DESCRIPTION:Join us for a special Story Time as we read books\, sing songs\
 , and learn about fruits and vegetables with the Harrisonburg Farmers Mark
 et!
DTSTART;TZID=America/New_York:20250605T110000
DTEND;TZID=America/New_York:20250605T120000
LOCATION:Central Library\, 174 S. Main St.\, Harrisonburg\, VA 22801 US
SUMMARY:Story Time with the Harrisonburg Farmers Market @Central Library
END:VEVENT
END:VCALENDAR
