BEGIN:VCALENDAR
VERSION:2.0
PRODID:-//mrlib.org//NONSGML kigkonsult.se iCalcreator 2.30.10//
CALSCALE:GREGORIAN
METHOD:PUBLISH
UID:38ae8e04-3973-4923-963f-b31cb629804d
X-WR-CALDESC:Dogs are wonderful listeners and love to hear stories! Dogs 2 
 Read 2 is a great chance for kids in grades K-5 to practice their reading 
 skills with a wonderful and well-behaved pup. Come meet Kenna\, a certifie
 d therapy dog through the Alliance for Therapy Dogs. Kenna is a familiar\,
  friendly face at many local schools and loves to listen to stories!\n\n*J
 une's Dogs 2 Read 2 was moved up one week due to unforeseen circumstances.
  Future Dogs 2 Read 2 programs at Village Library will continue to be ever
 y 2nd Saturday of the month.*
X-WR-RELCALID:6cdff1b22d09d8a02c5d40fd8a6d7658
X-WR-TIMEZONE:America/New_York
BEGIN:VTIMEZONE
TZID:America/New_York
BEGIN:STANDARD
TZNAME:EST
DTSTART:20241103T020000
TZOFFSETFROM:-0400
TZOFFSETTO:-0500
RDATE:20251102T020000
RDATE:20261101T020000
END:STANDARD
BEGIN:DAYLIGHT
TZNAME:EDT
DTSTART:20250309T020000
TZOFFSETFROM:-0500
TZOFFSETTO:-0400
RDATE:20260308T020000
END:DAYLIGHT
END:VTIMEZONE
BEGIN:VEVENT
UID:bcb7d5c5-143e-4bbd-aa2c-0c4995c596fa
DTSTAMP:20260420T024733Z
DESCRIPTION:Dogs are wonderful listeners and love to hear stories! Dogs 2 R
 ead 2 is a great chance for kids in grades K-5 to practice their reading s
 kills with a wonderful and well-behaved pup. Come meet Kenna\, a certified
  therapy dog through the Alliance for Therapy Dogs. Kenna is a familiar\, 
 friendly face at many local schools and loves to listen to stories!\n\n*Ju
 ne's Dogs 2 Read 2 was moved up one week due to unforeseen circumstances. 
 Future Dogs 2 Read 2 programs at Village Library will continue to be every
  2nd Saturday of the month.*
DTSTART;TZID=America/New_York:20250607T110000
DTEND;TZID=America/New_York:20250607T120000
LOCATION:Village Library\, 175 N. Main Street\, Broadway\, VA 22815 US
SUMMARY:Dogs 2 Read 2 @Village Library
END:VEVENT
END:VCALENDAR
