BEGIN:VCALENDAR
VERSION:2.0
PRODID:-//mrlib.org//NONSGML kigkonsult.se iCalcreator 2.30.10//
CALSCALE:GREGORIAN
METHOD:PUBLISH
UID:de115979-1d96-472c-9a6e-823bd5ffa0be
X-WR-CALDESC:Children of all ages and their caregivers will read\, sing\, d
 ance\, and take photos with the Chick-fil-A Cow in celebration of our Summ
 er Reading Challenge!
X-WR-RELCALID:c328d6bca7547f8e1e45f494b74a10a3
X-WR-TIMEZONE:America/New_York
BEGIN:VTIMEZONE
TZID:America/New_York
BEGIN:STANDARD
TZNAME:EST
DTSTART:20241103T020000
TZOFFSETFROM:-0400
TZOFFSETTO:-0500
RDATE:20251102T020000
RDATE:20261101T020000
END:STANDARD
BEGIN:DAYLIGHT
TZNAME:EDT
DTSTART:20250309T020000
TZOFFSETFROM:-0500
TZOFFSETTO:-0400
RDATE:20260308T020000
END:DAYLIGHT
END:VTIMEZONE
BEGIN:VEVENT
UID:93a52b7a-d6aa-4481-abf9-525927359671
DTSTAMP:20260420T030004Z
DESCRIPTION:Children of all ages and their caregivers will read\, sing\, da
 nce\, and take photos with the Chick-fil-A Cow in celebration of our Summe
 r Reading Challenge!
DTSTART;TZID=America/New_York:20250609T103000
DTEND;TZID=America/New_York:20250609T110000
LOCATION:Elkton Community Library\, 106 North Terrace Avenue\, Elkton\, VA 
 22827 US
SUMMARY:Story Time with the Chick-fil-A Cow @Elkton Community Library
END:VEVENT
END:VCALENDAR
