BEGIN:VCALENDAR
VERSION:2.0
PRODID:-//mrlib.org//NONSGML kigkonsult.se iCalcreator 2.30.10//
CALSCALE:GREGORIAN
METHOD:PUBLISH
UID:cef62b20-157d-42ad-8fc9-e3049d75b397
X-WR-CALDESC:Kids ages 6-11: create Father's Day cards and name tags using 
 beautiful calligraphy techniques! \n\nWe'll be joined by Regina Sanglier\,
  who has a graphic design degree and 30+ years of experience teaching call
 igraphy in schools\, adult education classes\, and after school programs. 
 \n\nWe politely request registration for planning purposes\, so please cli
 ck the 'Register Now' button!
X-WR-RELCALID:58bdb7b5d7863617d2d08174ea50cdf1
X-WR-TIMEZONE:America/New_York
BEGIN:VTIMEZONE
TZID:America/New_York
BEGIN:STANDARD
TZNAME:EST
DTSTART:20241103T020000
TZOFFSETFROM:-0400
TZOFFSETTO:-0500
RDATE:20251102T020000
RDATE:20261101T020000
END:STANDARD
BEGIN:DAYLIGHT
TZNAME:EDT
DTSTART:20250309T020000
TZOFFSETFROM:-0500
TZOFFSETTO:-0400
RDATE:20260308T020000
END:DAYLIGHT
END:VTIMEZONE
BEGIN:VEVENT
UID:7f51ecbb-a10d-4e2f-af40-2a77b321a355
DTSTAMP:20260420T023903Z
DESCRIPTION:Kids ages 6-11: create Father's Day cards and name tags using b
 eautiful calligraphy techniques! \n\nWe'll be joined by Regina Sanglier\, 
 who has a graphic design degree and 30+ years of experience teaching calli
 graphy in schools\, adult education classes\, and after school programs. 
 \n\nWe politely request registration for planning purposes\, so please cli
 ck the 'Register Now' button!
DTSTART;TZID=America/New_York:20250609T150000
DTEND;TZID=America/New_York:20250609T160000
LOCATION:Page Public Library\, 100 Zerkel Street\, Luray\, VA 22835 US
SUMMARY:Calligraphy Art @Page Public Library
END:VEVENT
END:VCALENDAR
