BEGIN:VCALENDAR
VERSION:2.0
PRODID:-//mrlib.org//NONSGML kigkonsult.se iCalcreator 2.30.10//
CALSCALE:GREGORIAN
METHOD:PUBLISH
UID:078bfec4-31f5-47b0-b503-0997d53db25a
X-WR-CALDESC:Children of all ages and their caregivers will enjoy books and
  songs with players from the New Market Rebels baseball team! Bring your b
 aseball and autograph book to collect player signatures.
X-WR-RELCALID:7a4b91d36ab8b09f950d2be2a5fea76d
X-WR-TIMEZONE:America/New_York
BEGIN:VTIMEZONE
TZID:America/New_York
BEGIN:STANDARD
TZNAME:EST
DTSTART:20241103T020000
TZOFFSETFROM:-0400
TZOFFSETTO:-0500
RDATE:20251102T020000
RDATE:20261101T020000
END:STANDARD
BEGIN:DAYLIGHT
TZNAME:EDT
DTSTART:20250309T020000
TZOFFSETFROM:-0500
TZOFFSETTO:-0400
RDATE:20260308T020000
END:DAYLIGHT
END:VTIMEZONE
BEGIN:VEVENT
UID:9110f4f4-1ab8-406f-9623-b4f2cc20c1ff
DTSTAMP:20260420T025045Z
DESCRIPTION:Children of all ages and their caregivers will enjoy books and 
 songs with players from the New Market Rebels baseball team! Bring your ba
 seball and autograph book to collect player signatures.
DTSTART;TZID=America/New_York:20250610T110000
DTEND;TZID=America/New_York:20250610T113000
LOCATION:Shenandoah Community Library\, 418 S. Third Street\, Shenandoah\, 
 VA 22849 US
SUMMARY:Story Time with the New Market Rebels @Shenandoah Community Library
END:VEVENT
END:VCALENDAR
