BEGIN:VCALENDAR
VERSION:2.0
PRODID:-//mrlib.org//NONSGML kigkonsult.se iCalcreator 2.30.10//
CALSCALE:GREGORIAN
METHOD:PUBLISH
UID:307fe75d-7310-49f8-b027-c8a15b02c2b8
X-WR-CALDESC:Children of all ages and their caregivers will enjoy a special
  Story Time led by Grottoes Police Chief Sullivan! Meet him\, listen to ex
 citing police stories\, and explore an actual police car. \n
X-WR-RELCALID:24d6b90a7ac8bad3e1f819353f8334b1
X-WR-TIMEZONE:America/New_York
BEGIN:VTIMEZONE
TZID:America/New_York
BEGIN:STANDARD
TZNAME:EST
DTSTART:20241103T020000
TZOFFSETFROM:-0400
TZOFFSETTO:-0500
RDATE:20251102T020000
RDATE:20261101T020000
END:STANDARD
BEGIN:DAYLIGHT
TZNAME:EDT
DTSTART:20250309T020000
TZOFFSETFROM:-0500
TZOFFSETTO:-0400
RDATE:20260308T020000
END:DAYLIGHT
END:VTIMEZONE
BEGIN:VEVENT
UID:0e51cff7-82dc-4523-aa31-184f704ad56f
DTSTAMP:20260420T024959Z
DESCRIPTION:Children of all ages and their caregivers will enjoy a special 
 Story Time led by Grottoes Police Chief Sullivan! Meet him\, listen to exc
 iting police stories\, and explore an actual police car. \n
DTSTART;TZID=America/New_York:20250611T100000
DTEND;TZID=America/New_York:20250611T103000
LOCATION:Grottoes Branch Library\, 601 Dogwood Avenue\, Grottoes\, VA 24441
  US
SUMMARY:CircleTime with Chief Sullivan @Grottoes Branch Library
END:VEVENT
END:VCALENDAR
