BEGIN:VCALENDAR
VERSION:2.0
PRODID:-//mrlib.org//NONSGML kigkonsult.se iCalcreator 2.30.10//
CALSCALE:GREGORIAN
METHOD:PUBLISH
UID:b00b89d8-45e8-4a4c-a9b4-7e05e711a7b8
X-WR-CALDESC:Girls in kindergarten through 2nd grade are invited to Discove
 ring Daisies\, where local Girl Scout Troop Leader Elizabeth DePoy will te
 ll us all about the Daisies program and lead a Story Time and craft!
X-WR-RELCALID:857a8752dbaee2cf3bb732b36d8fa68e
X-WR-TIMEZONE:America/New_York
BEGIN:VTIMEZONE
TZID:America/New_York
BEGIN:STANDARD
TZNAME:EST
DTSTART:20241103T020000
TZOFFSETFROM:-0400
TZOFFSETTO:-0500
RDATE:20251102T020000
RDATE:20261101T020000
END:STANDARD
BEGIN:DAYLIGHT
TZNAME:EDT
DTSTART:20250309T020000
TZOFFSETFROM:-0500
TZOFFSETTO:-0400
RDATE:20260308T020000
END:DAYLIGHT
END:VTIMEZONE
BEGIN:VEVENT
UID:aae6474b-7445-4f2f-8746-4ac7c91ee974
DTSTAMP:20260420T023904Z
DESCRIPTION:Girls in kindergarten through 2nd grade are invited to Discover
 ing Daisies\, where local Girl Scout Troop Leader Elizabeth DePoy will tel
 l us all about the Daisies program and lead a Story Time and craft!
DTSTART;TZID=America/New_York:20250611T143000
DTEND;TZID=America/New_York:20250611T153000
LOCATION:North River Library\, 118 Mt. Crawford Avenue\, Bridgewater\, VA 2
 2812 US
SUMMARY:Discovering Daisies @North River Library
END:VEVENT
END:VCALENDAR
