BEGIN:VCALENDAR
VERSION:2.0
PRODID:-//mrlib.org//NONSGML kigkonsult.se iCalcreator 2.30.10//
CALSCALE:GREGORIAN
METHOD:PUBLISH
UID:3b79bdd3-8a2e-41a3-a1ed-2795eef3ab3d
X-WR-CALDESC:Children of all ages and their caregivers will enjoy books and
  songs with players from the New Market Rebels baseball team! Bring your b
 aseball and autograph book to collect player signatures.
X-WR-RELCALID:6cc03cb46099f48af819a5e84f3ace8e
X-WR-TIMEZONE:America/New_York
BEGIN:VTIMEZONE
TZID:America/New_York
BEGIN:STANDARD
TZNAME:EST
DTSTART:20241103T020000
TZOFFSETFROM:-0400
TZOFFSETTO:-0500
RDATE:20251102T020000
RDATE:20261101T020000
END:STANDARD
BEGIN:DAYLIGHT
TZNAME:EDT
DTSTART:20250309T020000
TZOFFSETFROM:-0500
TZOFFSETTO:-0400
RDATE:20260308T020000
END:DAYLIGHT
END:VTIMEZONE
BEGIN:VEVENT
UID:72580f44-b5c4-466a-9a37-03a9322e5608
DTSTAMP:20260420T025045Z
DESCRIPTION:Children of all ages and their caregivers will enjoy books and 
 songs with players from the New Market Rebels baseball team! Bring your ba
 seball and autograph book to collect player signatures.
DTSTART;TZID=America/New_York:20250612T100000
DTEND;TZID=America/New_York:20250612T103000
LOCATION:Village Library\, 175 N. Main Street\, Broadway\, VA 22815 US
SUMMARY:Story Time with the New Market Rebels @Village Library
END:VEVENT
END:VCALENDAR
