BEGIN:VCALENDAR
VERSION:2.0
PRODID:-//mrlib.org//NONSGML kigkonsult.se iCalcreator 2.30.10//
CALSCALE:GREGORIAN
METHOD:PUBLISH
UID:10aebcbf-4015-44a9-9761-d74d54c5b9ca
X-WR-CALDESC:Enjoy books and songs with players from the Harrisonburg Turks
  baseball team! Bring your baseball and autograph book to collect player s
 ignatures.
X-WR-RELCALID:077d6fe6c88fd9565c2ae00654eed5df
X-WR-TIMEZONE:America/New_York
BEGIN:VTIMEZONE
TZID:America/New_York
BEGIN:STANDARD
TZNAME:EST
DTSTART:20241103T020000
TZOFFSETFROM:-0400
TZOFFSETTO:-0500
RDATE:20251102T020000
RDATE:20261101T020000
END:STANDARD
BEGIN:DAYLIGHT
TZNAME:EDT
DTSTART:20250309T020000
TZOFFSETFROM:-0500
TZOFFSETTO:-0400
RDATE:20260308T020000
END:DAYLIGHT
END:VTIMEZONE
BEGIN:VEVENT
UID:20f06ca1-0b65-41fe-8d2e-c9b649cfd7b8
DTSTAMP:20260420T025047Z
DESCRIPTION:Enjoy books and songs with players from the Harrisonburg Turks 
 baseball team! Bring your baseball and autograph book to collect player si
 gnatures.
DTSTART;TZID=America/New_York:20250612T110000
DTEND;TZID=America/New_York:20250612T120000
LOCATION:Central Library\, 174 S. Main St.\, Harrisonburg\, VA 22801 US
SUMMARY:Story Time with the Harrisonburg Turks @Central Library
END:VEVENT
END:VCALENDAR
