BEGIN:VCALENDAR
VERSION:2.0
PRODID:-//mrlib.org//NONSGML kigkonsult.se iCalcreator 2.30.10//
CALSCALE:GREGORIAN
METHOD:PUBLISH
UID:7a357ad4-789d-4678-8ff2-b22a35d406cc
X-WR-CALDESC:Are you going to Best Weekend Ever in downtown Harrisonburg on
  Saturday\, June 14th? Stop by Central Library's Book Sale and directly su
 pport our nonprofit mission! \n\nThursday: 10AM-6PM\nFriday: Noon - 3PM\nS
 aturday: Noon- 3PM\n\nAdult Books $1 each\; children's titles $.25 each - 
 cash and credit card accepted.
X-WR-RELCALID:45437b6fff54de03503305e17809e380
X-WR-TIMEZONE:America/New_York
BEGIN:VTIMEZONE
TZID:America/New_York
BEGIN:STANDARD
TZNAME:EST
DTSTART:20241103T020000
TZOFFSETFROM:-0400
TZOFFSETTO:-0500
RDATE:20251102T020000
RDATE:20261101T020000
END:STANDARD
BEGIN:DAYLIGHT
TZNAME:EDT
DTSTART:20250309T020000
TZOFFSETFROM:-0500
TZOFFSETTO:-0400
RDATE:20260308T020000
END:DAYLIGHT
END:VTIMEZONE
BEGIN:VEVENT
UID:87979ed5-b695-4f2c-b796-c0c1abc12958
DTSTAMP:20260420T023903Z
DESCRIPTION:Are you going to Best Weekend Ever in downtown Harrisonburg on 
 Saturday\, June 14th? Stop by Central Library's Book Sale and directly sup
 port our nonprofit mission! \n\nThursday: 10AM-6PM\nFriday: Noon - 3PM\nSa
 turday: Noon- 3PM\n\nAdult Books $1 each\; children's titles $.25 each - c
 ash and credit card accepted.
DTSTART;TZID=America/New_York:20250612T060000
DTEND;TZID=America/New_York:20250614T060001
LOCATION:Central Library\, 174 S. Main Street\, Harrisonburg\, VA 22801 US
SUMMARY:Book Sale @ Central Library
END:VEVENT
END:VCALENDAR
