BEGIN:VCALENDAR
VERSION:2.0
PRODID:-//mrlib.org//NONSGML kigkonsult.se iCalcreator 2.30.10//
CALSCALE:GREGORIAN
METHOD:PUBLISH
UID:f7b7cf79-cc42-48ad-b865-af81332c9e28
X-WR-CALDESC:Kids from birth to age 17 will get one FREE game of 18-holes m
 ini golf when they show their Summer Reading Free Friday wristband!\n\nAll
  accompanying participants without wristbands must pay regular prices to p
 lay golf.
X-WR-RELCALID:39a144cf696bdc3186a983d9ffc29a51
X-WR-TIMEZONE:America/New_York
BEGIN:VTIMEZONE
TZID:America/New_York
BEGIN:STANDARD
TZNAME:EST
DTSTART:20241103T020000
TZOFFSETFROM:-0400
TZOFFSETTO:-0500
RDATE:20251102T020000
RDATE:20261101T020000
END:STANDARD
BEGIN:DAYLIGHT
TZNAME:EDT
DTSTART:20250309T020000
TZOFFSETFROM:-0500
TZOFFSETTO:-0400
RDATE:20260308T020000
END:DAYLIGHT
END:VTIMEZONE
BEGIN:VEVENT
UID:77ea4548-20d6-4dfb-8878-5e27c0dda816
DTSTAMP:20260420T024107Z
DESCRIPTION:Kids from birth to age 17 will get one FREE game of 18-holes mi
 ni golf when they show their Summer Reading Free Friday wristband!\n\nAll 
 accompanying participants without wristbands must pay regular prices to pl
 ay golf.
DTSTART;TZID=America/New_York:20250613T090000
DTEND;TZID=America/New_York:20250613T200000
LOCATION:Mulligan's Golf Center\, 141 Carpenter Lane\, Harrisonburg\, VA 22
 801 US
SUMMARY:Free Friday @Mulligan's Golf Center
END:VEVENT
END:VCALENDAR
