BEGIN:VCALENDAR
VERSION:2.0
PRODID:-//mrlib.org//NONSGML kigkonsult.se iCalcreator 2.30.10//
CALSCALE:GREGORIAN
METHOD:PUBLISH
UID:11eaf67c-3da1-4d6c-954d-c06d4a6d6978
X-WR-CALDESC:K-5 kids: join us for the debut of Shenandoah Community Librar
 y's Dogs 2 Read 2 (D2R2)!\n\nDogs are wonderful listeners and love to hear
  stories! D2R2 is a great chance for kids in grades K-5 to practice their 
 reading skills with wonderful and well-behaved pups. Come meet our furry f
 riend Rigel and celebrate the start of Dogs 2 Read 2 at Shenandoah Communi
 ty Library!
X-WR-RELCALID:c500bc096b97d9ad5eb1760677d3ffe4
X-WR-TIMEZONE:America/New_York
BEGIN:VTIMEZONE
TZID:America/New_York
BEGIN:STANDARD
TZNAME:EST
DTSTART:20241103T020000
TZOFFSETFROM:-0400
TZOFFSETTO:-0500
RDATE:20251102T020000
RDATE:20261101T020000
END:STANDARD
BEGIN:DAYLIGHT
TZNAME:EDT
DTSTART:20250309T020000
TZOFFSETFROM:-0500
TZOFFSETTO:-0400
RDATE:20260308T020000
END:DAYLIGHT
END:VTIMEZONE
BEGIN:VEVENT
UID:69a17dbf-bea6-4245-91eb-340ded6c0958
DTSTAMP:20260420T024016Z
DESCRIPTION:K-5 kids: join us for the debut of Shenandoah Community Library
 's Dogs 2 Read 2 (D2R2)!\n\nDogs are wonderful listeners and love to hear 
 stories! D2R2 is a great chance for kids in grades K-5 to practice their r
 eading skills with wonderful and well-behaved pups. Come meet our furry fr
 iend Rigel and celebrate the start of Dogs 2 Read 2 at Shenandoah Communit
 y Library!
DTSTART;TZID=America/New_York:20250614T100000
DTEND;TZID=America/New_York:20250614T110000
LOCATION:Shenandoah Community Library\, 418 S. Third Street\, Shenandoah\, 
 VA 22849 US
SUMMARY:Dogs 2 Read 2 @Shenandoah Community Library
END:VEVENT
END:VCALENDAR
