BEGIN:VCALENDAR
VERSION:2.0
PRODID:-//mrlib.org//NONSGML kigkonsult.se iCalcreator 2.30.10//
CALSCALE:GREGORIAN
METHOD:PUBLISH
UID:86a7956b-1d74-4fe9-a16c-9ae614eee0bc
X-WR-CALDESC:Kids ages 3 and up: learn how seeds grow and discover the purp
 ose of flowers! We'll have various stations located around North River Lib
 rary's beautiful butterfly garden for you to explore - and feel free to br
 ing your extra seeds to contribute to our brand new Seed Library!\n\nHow a
  Seed Grows is Part I of our 3-part Garden Series for Kids. Check out the 
 next two dates below:\n\n- Part II: Exploring the Diversity of Insects in 
 the Pollinator Garden - July 12th\n\n- Part III: Exploring How Diverse Gro
 ups Use Plants in Their Cultures\, with special guest Sandy Parks - August
  9th
X-WR-RELCALID:6b7caa3fbf0ad4c002a70f94bb62d822
X-WR-TIMEZONE:America/New_York
BEGIN:VTIMEZONE
TZID:America/New_York
BEGIN:STANDARD
TZNAME:EST
DTSTART:20241103T020000
TZOFFSETFROM:-0400
TZOFFSETTO:-0500
RDATE:20251102T020000
RDATE:20261101T020000
END:STANDARD
BEGIN:DAYLIGHT
TZNAME:EDT
DTSTART:20250309T020000
TZOFFSETFROM:-0500
TZOFFSETTO:-0400
RDATE:20260308T020000
END:DAYLIGHT
END:VTIMEZONE
BEGIN:VEVENT
UID:a19f6fca-05a0-4f9f-8cf1-ba848d6e97a0
DTSTAMP:20260420T023804Z
DESCRIPTION:Kids ages 3 and up: learn how seeds grow and discover the purpo
 se of flowers! We'll have various stations located around North River Libr
 ary's beautiful butterfly garden for you to explore - and feel free to bri
 ng your extra seeds to contribute to our brand new Seed Library!\n\nHow a 
 Seed Grows is Part I of our 3-part Garden Series for Kids. Check out the n
 ext two dates below:\n\n- Part II: Exploring the Diversity of Insects in t
 he Pollinator Garden - July 12th\n\n- Part III: Exploring How Diverse Grou
 ps Use Plants in Their Cultures\, with special guest Sandy Parks - August 
 9th
DTSTART;TZID=America/New_York:20250614T103000
DTEND;TZID=America/New_York:20250614T120000
LOCATION:North River Library\, 118 Mt. Crawford Avenue\, Bridgewater\, VA 2
 2812 US
SUMMARY:How a Seed Grows @North River Library
END:VEVENT
END:VCALENDAR
