BEGIN:VCALENDAR
VERSION:2.0
PRODID:-//mrlib.org//NONSGML kigkonsult.se iCalcreator 2.30.10//
CALSCALE:GREGORIAN
METHOD:PUBLISH
UID:7ba54d55-6cef-4da0-bcff-c84c5043a324
X-WR-CALDESC:Kids: drop in to Village Library between 11 AM and 12 PM to ge
 t creative with LEGO bricks! We'll build\, explore\, and let our imaginati
 ons run wild with a variety of LEGO challenges. All materials will be prov
 ided - just bring your creativity!
X-WR-RELCALID:ad233f1bcadb00047f631211ec372372
X-WR-TIMEZONE:America/New_York
BEGIN:VTIMEZONE
TZID:America/New_York
BEGIN:STANDARD
TZNAME:EST
DTSTART:20241103T020000
TZOFFSETFROM:-0400
TZOFFSETTO:-0500
RDATE:20251102T020000
RDATE:20261101T020000
END:STANDARD
BEGIN:DAYLIGHT
TZNAME:EDT
DTSTART:20250309T020000
TZOFFSETFROM:-0500
TZOFFSETTO:-0400
RDATE:20260308T020000
END:DAYLIGHT
END:VTIMEZONE
BEGIN:VEVENT
UID:2c0e2d24-7b46-495d-886a-263105df67d3
DTSTAMP:20260420T023946Z
DESCRIPTION:Kids: drop in to Village Library between 11 AM and 12 PM to get
  creative with LEGO bricks! We'll build\, explore\, and let our imaginatio
 ns run wild with a variety of LEGO challenges. All materials will be provi
 ded - just bring your creativity!
DTSTART;TZID=America/New_York:20250614T110000
DTEND;TZID=America/New_York:20250614T120000
LOCATION:Village Library\, 175 N. Main Street\, Broadway\, VA 22815 US
SUMMARY:LEGO Time @Village Library
END:VEVENT
END:VCALENDAR
