BEGIN:VCALENDAR
VERSION:2.0
PRODID:-//mrlib.org//NONSGML kigkonsult.se iCalcreator 2.30.10//
CALSCALE:GREGORIAN
METHOD:PUBLISH
UID:d61e523b-46a3-4fa1-887f-65c8925f74ce
X-WR-CALDESC:Children of all ages and their caregivers will enjoy a fun\, b
 ilingual Story Time and craft led by Andrea Cencich\, a former teacher who
  is fluent in both English and Spanish!\n\nNiños de todas las edades: ¡Úna
 se a nosotros para una hora de cuentos muy divertida y hacer una manualida
 d\, también! El evento estará dirigido por Andrea Cencich\, una maestra bi
 lingüe del español/inglés.
X-WR-RELCALID:94c3e0aa094d5f6e088320fe47336c47
X-WR-TIMEZONE:America/New_York
BEGIN:VTIMEZONE
TZID:America/New_York
BEGIN:STANDARD
TZNAME:EST
DTSTART:20241103T020000
TZOFFSETFROM:-0400
TZOFFSETTO:-0500
RDATE:20251102T020000
RDATE:20261101T020000
END:STANDARD
BEGIN:DAYLIGHT
TZNAME:EDT
DTSTART:20250309T020000
TZOFFSETFROM:-0500
TZOFFSETTO:-0400
RDATE:20260308T020000
END:DAYLIGHT
END:VTIMEZONE
BEGIN:VEVENT
UID:4ab298a2-a6c3-4023-b840-b6d1bd0d9a3d
DTSTAMP:20260420T024727Z
DESCRIPTION:Children of all ages and their caregivers will enjoy a fun\, bi
 lingual Story Time and craft led by Andrea Cencich\, a former teacher who 
 is fluent in both English and Spanish!\n\nNiños de todas las edades: ¡Únas
 e a nosotros para una hora de cuentos muy divertida y hacer una manualidad
 \, también! El evento estará dirigido por Andrea Cencich\, una maestra bil
 ingüe del español/inglés.
DTSTART;TZID=America/New_York:20250616T103000
DTEND;TZID=America/New_York:20250616T113000
LOCATION:Page Public Library\, 100 Zerkel Street\, Luray\, VA 22835 US
SUMMARY:Bilingual Story Time @Page Public Library
END:VEVENT
END:VCALENDAR
