BEGIN:VCALENDAR
VERSION:2.0
PRODID:-//mrlib.org//NONSGML kigkonsult.se iCalcreator 2.30.10//
CALSCALE:GREGORIAN
METHOD:PUBLISH
UID:c40434d9-ac92-4ac0-b7cc-b88133d480a6
X-WR-CALDESC:All families are invited to Discovering Daisies\, where a loca
 l Girl Scout Troop Leader will tell us all about the Daisies program and l
 ead a Story Time and craft!
X-WR-RELCALID:0831e5cbf1a0933d1d9bc4ed7b089e80
X-WR-TIMEZONE:America/New_York
BEGIN:VTIMEZONE
TZID:America/New_York
BEGIN:STANDARD
TZNAME:EST
DTSTART:20241103T020000
TZOFFSETFROM:-0400
TZOFFSETTO:-0500
RDATE:20251102T020000
RDATE:20261101T020000
END:STANDARD
BEGIN:DAYLIGHT
TZNAME:EDT
DTSTART:20250309T020000
TZOFFSETFROM:-0500
TZOFFSETTO:-0400
RDATE:20260308T020000
END:DAYLIGHT
END:VTIMEZONE
BEGIN:VEVENT
UID:6cd60e9e-beae-48d8-a043-40bc1ff27f2c
DTSTAMP:20260420T024015Z
DESCRIPTION:All families are invited to Discovering Daisies\, where a local
  Girl Scout Troop Leader will tell us all about the Daisies program and le
 ad a Story Time and craft!
DTSTART;TZID=America/New_York:20250616T140000
DTEND;TZID=America/New_York:20250616T150000
LOCATION:Grottoes Branch Library\, 601 Dogwood Avenue\, Grottoes\, VA 24441
  US
SUMMARY:Discovering Daisies @Grottoes Branch Library
END:VEVENT
END:VCALENDAR
