BEGIN:VCALENDAR
VERSION:2.0
PRODID:-//mrlib.org//NONSGML kigkonsult.se iCalcreator 2.30.10//
CALSCALE:GREGORIAN
METHOD:PUBLISH
UID:26e5f515-cb18-4f8f-8de9-bbbe784c6bc9
X-WR-CALDESC:Children of all ages and their caregivers will enjoy a special
  Story Time filled with a kaleidoscope of music! Local band River's Bend T
 rio will feature diverse styles and genres\, so come sing along in an inte
 ractive musical experience. \n
X-WR-RELCALID:4541bfb56c7ab4c5203ede8e82e57781
X-WR-TIMEZONE:America/New_York
BEGIN:VTIMEZONE
TZID:America/New_York
BEGIN:STANDARD
TZNAME:EST
DTSTART:20241103T020000
TZOFFSETFROM:-0400
TZOFFSETTO:-0500
RDATE:20251102T020000
RDATE:20261101T020000
END:STANDARD
BEGIN:DAYLIGHT
TZNAME:EDT
DTSTART:20250309T020000
TZOFFSETFROM:-0500
TZOFFSETTO:-0400
RDATE:20260308T020000
END:DAYLIGHT
END:VTIMEZONE
BEGIN:VEVENT
UID:138a033d-1466-4873-bcc7-30d9451ea0f3
DTSTAMP:20260420T025243Z
DESCRIPTION:Children of all ages and their caregivers will enjoy a special 
 Story Time filled with a kaleidoscope of music! Local band River's Bend Tr
 io will feature diverse styles and genres\, so come sing along in an inter
 active musical experience. \n
DTSTART;TZID=America/New_York:20250618T100000
DTEND;TZID=America/New_York:20250618T103000
LOCATION:Grottoes Branch Library\, 601 Dogwood Avenue\, Grottoes\, VA 24441
  US
SUMMARY:Musical Kaleidoscope with River's Bend Trio @Grottoes Branch Librar
 y
END:VEVENT
END:VCALENDAR
