BEGIN:VCALENDAR
VERSION:2.0
PRODID:-//mrlib.org//NONSGML kigkonsult.se iCalcreator 2.30.10//
CALSCALE:GREGORIAN
METHOD:PUBLISH
UID:ab1e5f04-271f-4c6d-9839-872bb0f28418
X-WR-CALDESC:All families are invited to Discovering Daisies\, where a loca
 l Girl Scout Troop Leader will tell us all about the Daisies program and l
 ead a Story Time and craft!
X-WR-RELCALID:e148c6a8dd876fcf507293b882818132
X-WR-TIMEZONE:America/New_York
BEGIN:VTIMEZONE
TZID:America/New_York
BEGIN:STANDARD
TZNAME:EST
DTSTART:20241103T020000
TZOFFSETFROM:-0400
TZOFFSETTO:-0500
RDATE:20251102T020000
RDATE:20261101T020000
END:STANDARD
BEGIN:DAYLIGHT
TZNAME:EDT
DTSTART:20250309T020000
TZOFFSETFROM:-0500
TZOFFSETTO:-0400
RDATE:20260308T020000
END:DAYLIGHT
END:VTIMEZONE
BEGIN:VEVENT
UID:4e261c9c-a941-4838-9f59-b734d5c225c4
DTSTAMP:20260420T023942Z
DESCRIPTION:All families are invited to Discovering Daisies\, where a local
  Girl Scout Troop Leader will tell us all about the Daisies program and le
 ad a Story Time and craft!
DTSTART;TZID=America/New_York:20250618T143000
DTEND;TZID=America/New_York:20250618T153000
LOCATION:Elkton Community Library\, 106 N. Terrace Avenue\, Elkton\, VA 228
 27 US
SUMMARY:Discovering Daisies @Elkton Community Library
END:VEVENT
END:VCALENDAR
